BEGIN:VCALENDAR
VERSION:2.0
PRODID:-//ChamberMaster//Event Calendar 2.0//EN
METHOD:PUBLISH
X-PUBLISHED-TTL:P3D
REFRESH-INTERVAL:P3D
CALSCALE:GREGORIAN
BEGIN:VEVENT
DTSTART:20090924T213000Z
DTEND:20090924T230000Z
X-MICROSOFT-CDO-ALLDAYEVENT:FALSE
SUMMARY:New Member Reception
DESCRIPTION:New Member Reception\, Sponsored by The Peoples Bank
X-ALT-DESC;FMTTYPE=text/html:<div>New Member Reception\, Sponsored by The Peoples Bank</div>
LOCATION:Statham Peoples Bank1995 Atlanta Hwy\, Statham\, Ga
UID:e.363.3019
SEQUENCE:3
DTSTAMP:20260425T172806Z
URL:https://barrowcm.365dtm.com/events/details/new-member-reception-09-24-2009-3019
END:VEVENT

END:VCALENDAR
