BEGIN:VCALENDAR
VERSION:2.0
PRODID:-//ChamberMaster//Event Calendar 2.0//EN
METHOD:PUBLISH
X-PUBLISHED-TTL:P3D
REFRESH-INTERVAL:P3D
CALSCALE:GREGORIAN
BEGIN:VEVENT
DTSTART:20101021T154500Z
DTEND:20101021T170000Z
X-MICROSOFT-CDO-ALLDAYEVENT:FALSE
SUMMARY:New Member Reception
DESCRIPTION:New Member Reception\n\nFor all new members to come and learn about our Chamber\n\nand meet some ambassadors and Board members
X-ALT-DESC;FMTTYPE=text/html:New Member Reception<br />\nFor all new members to come and learn about our Chamber<br />\nand meet some ambassadors and Board members
LOCATION:The Chamber Office #6 Porter Street
UID:e.363.3617
SEQUENCE:3
DTSTAMP:20260424T212949Z
URL:https://barrowcm.365dtm.com/events/details/new-member-reception-10-21-2010-3617
END:VEVENT

END:VCALENDAR
