BEGIN:VCALENDAR
VERSION:2.0
PRODID:-//ChamberMaster//Event Calendar 2.0//EN
METHOD:PUBLISH
X-PUBLISHED-TTL:P3D
REFRESH-INTERVAL:P3D
CALSCALE:GREGORIAN
BEGIN:VEVENT
DTSTART:20100126T164500Z
DTEND:20100126T180000Z
X-MICROSOFT-CDO-ALLDAYEVENT:FALSE
SUMMARY:New Member Reception/Luncheon
DESCRIPTION:New Member Reception/ Luncheon\n\nQuarterly New Members come together t network
X-ALT-DESC;FMTTYPE=text/html:New Member Reception/ Luncheon\n<br>Quarterly New Members come together t network
LOCATION:Barrow Chamber Office #6 Porter Street\, Winder
UID:e.363.3186
SEQUENCE:3
DTSTAMP:20260425T104222Z
URL:https://barrowcm.365dtm.com/events/details/new-member-reception-luncheon-01-26-2010-3186
END:VEVENT

END:VCALENDAR
