BEGIN:VCALENDAR
VERSION:2.0
PRODID:-//ChamberMaster//Event Calendar 2.0//EN
METHOD:PUBLISH
X-PUBLISHED-TTL:P3D
REFRESH-INTERVAL:P3D
CALSCALE:GREGORIAN
BEGIN:VEVENT
DTSTART:20140404T220000Z
DTEND:20140405T020000Z
X-MICROSOFT-CDO-ALLDAYEVENT:FALSE
SUMMARY:Night of Hope for Children
DESCRIPTION:The Tree House's 16th annual live and silent  auction and dinner. Please join us for an elegant night of fun and food friday April 04\, 2014 @ 6:00 pm at the Winder Community Center. We will have over 100 silent auction items and 20 live auction items availible for bidding.
X-ALT-DESC;FMTTYPE=text/html:The Tree House&#39\;s 16th annual live and silent&nbsp\;&nbsp\;auction and dinner. Please join us for an elegant&nbsp\;night of fun and food friday April 04\, 2014 @ 6:00 pm at the Winder Community Center. We will have over 100 silent auction items and 20 live auction items availible for bidding. 
LOCATION:Winder Community Center
UID:e.363.5392
SEQUENCE:3
DTSTAMP:20260422T034708Z
URL:https://barrowcm.365dtm.com/events/details/night-of-hope-for-children-04-04-2014-5392
END:VEVENT

END:VCALENDAR
