BEGIN:VCALENDAR
VERSION:2.0
PRODID:-//ChamberMaster//Event Calendar 2.0//EN
METHOD:PUBLISH
X-PUBLISHED-TTL:P3D
REFRESH-INTERVAL:P3D
CALSCALE:GREGORIAN
BEGIN:VEVENT
DTSTART:20130322T220000Z
DTEND:20130323T020000Z
X-MICROSOFT-CDO-ALLDAYEVENT:FALSE
SUMMARY:NIGHT of HOPE for CHILDREN Live and Silent Auction & Dinner
DESCRIPTION:The Tree House is a nonprofit organization whose mission is to reduce the impact and occurrence of child abuse through counseling\, educating\, supporting and nurturing children and families in Barrow\, Banks\, and Jackson Counties.\n\n	 \n\n	In March each year we have our largest fundraiser\, "A Night of Hope for Children". All proceeds from this event go directly to the programs and services of The Tree House. Please join us for a night of food and fun. Over 100 silent auction items and over 20 live auction items will be available for your bidding pleasure. \n\n	 \n\n	In 2012\, The Tree House provided over 6\,000 advocacy and crisis counseling services to approximately 392 child victims of physical and sexual abuse. Over 3079 parent education and support services were extended to over 829 children and families.
X-ALT-DESC;FMTTYPE=text/html:<p class="MsoNormal" style="margin: 0in 0in 0pt">\n	<font color="#000000" size="3">The Tree House is a nonprofit organization whose mission is to reduce the impact and occurrence of child abuse through counseling\, educating\, supporting and nurturing children&nbsp\;and families in Barrow\, Banks\, and Jackson Counties.</font></p>\n<p class="MsoNormal" style="margin: 0in 0in 0pt\; tab-stops: 429.0pt">\n	<o:p><font color="#000000" size="3">&nbsp\;</font></o:p></p>\n<p class="MsoNormal" style="margin: 0in 0in 0pt\; tab-stops: 429.0pt">\n	<font color="#000000" size="3">In March each year we have our largest fundraiser\, &ldquo\;A Night of Hope for Children&rdquo\;.&nbsp\;All proceeds from this event go directly to the programs and services of The Tree House.</font><o:p><font color="#000000" size="3">&nbsp\;Please join us for a night of food and fun. Over 100 silent auction items and over 20 live auction items will be available for your bidding pleasure. </font></o:p></p>\n<p class="MsoNormal" style="margin: 0in 0in 0pt\; tab-stops: 429.0pt">\n	<o:p><font color="#000000" size="3">&nbsp\;</font></o:p></p>\n<p class="MsoNormal" style="margin: 0in 0in 0pt\; tab-stops: 429.0pt">\n	<font color="#000000" size="3">In 2012\, The Tree House provided over 6\,000 advocacy and crisis counseling services to approximately 392 child victims of physical and sexual abuse. Over 3079 parent education and support services were extended to over 829 children and families. </font></p>\n<p class="MsoNormal" style="margin: 0in 0in 0pt\; tab-stops: 429.0pt">\n	<o:p><font color="#000000" size="3">&nbsp\;</font></o:p><br />\n	&nbsp\;</p>\n
LOCATION:Winder Community Center
UID:e.363.4841
SEQUENCE:3
DTSTAMP:20260423T023413Z
URL:https://barrowcm.365dtm.com/events/details/night-of-hope-for-children-live-and-silent-auction-dinner-03-22-2013-4841
END:VEVENT

END:VCALENDAR
