BEGIN:VCALENDAR
VERSION:2.0
PRODID:-//ChamberMaster//Event Calendar 2.0//EN
METHOD:PUBLISH
X-PUBLISHED-TTL:P3D
REFRESH-INTERVAL:P3D
CALSCALE:GREGORIAN
BEGIN:VEVENT
DTSTART:20090423T210000Z
DTEND:20090424T010000Z
X-MICROSOFT-CDO-ALLDAYEVENT:FALSE
SUMMARY:Nine and Network
DESCRIPTION:If you believe in the saying the best business is done on the course\, this event is for you.  Grab your sticks and join us for a social nine holes of twilight golf followed by some networking in the Lounge afterwards.
X-ALT-DESC;FMTTYPE=text/html:If you believe in the saying the best business is done on the course\, this event is for you.  Grab your sticks and join us for a social nine holes of twilight golf followed by some networking in the Lounge afterwards.  
LOCATION:The Georgia Club
UID:e.363.2693
SEQUENCE:3
DTSTAMP:20260426T011352Z
URL:https://barrowcm.365dtm.com/events/details/nine-and-network-04-23-2009-2693
END:VEVENT

END:VCALENDAR
