BEGIN:VCALENDAR
VERSION:2.0
PRODID:-//ChamberMaster//Event Calendar 2.0//EN
METHOD:PUBLISH
X-PUBLISHED-TTL:P3D
REFRESH-INTERVAL:P3D
CALSCALE:GREGORIAN
BEGIN:VEVENT
DTSTART:20150924T143000Z
DTEND:20150924T153000Z
X-MICROSOFT-CDO-ALLDAYEVENT:FALSE
SUMMARY:NO Board of Directors Meeting
DESCRIPTION:Board of Directors Meeting at the Chamber
X-ALT-DESC;FMTTYPE=text/html:Board of Directors Meeting at the Chamber
LOCATION:
UID:e.363.5819
SEQUENCE:3
DTSTAMP:20260421T011408Z
URL:https://barrowcm.365dtm.com/events/details/no-board-of-directors-meeting-09-24-2015-5819
END:VEVENT

END:VCALENDAR
