BEGIN:VCALENDAR
VERSION:2.0
PRODID:-//ChamberMaster//Event Calendar 2.0//EN
METHOD:PUBLISH
X-PUBLISHED-TTL:P3D
REFRESH-INTERVAL:P3D
CALSCALE:GREGORIAN
BEGIN:VEVENT
DTSTART;VALUE=DATE:20120207
DTEND;VALUE=DATE:20120208
TRANSP:TRANSPARENT
X-MICROSOFT-CDO-ALLDAYEVENT:TRUE
SUMMARY:No Chamber Meeting
DESCRIPTION:
X-ALT-DESC;FMTTYPE=text/html:
LOCATION:
UID:e.363.4158
SEQUENCE:3
DTSTAMP:20260423T222417Z
URL:https://barrowcm.365dtm.com/events/details/no-chamber-meeting-02-07-2012-4158
END:VEVENT

END:VCALENDAR
