BEGIN:VCALENDAR
VERSION:2.0
PRODID:-//ChamberMaster//Event Calendar 2.0//EN
METHOD:PUBLISH
X-PUBLISHED-TTL:P3D
REFRESH-INTERVAL:P3D
CALSCALE:GREGORIAN
BEGIN:VEVENT
DTSTART:20140701T154500Z
DTEND:20140701T170000Z
X-MICROSOFT-CDO-ALLDAYEVENT:FALSE
SUMMARY:NO First Tuesday Membership Meeting
DESCRIPTION:
X-ALT-DESC;FMTTYPE=text/html:
LOCATION:
UID:e.363.5383
SEQUENCE:3
DTSTAMP:20260421T230111Z
URL:https://barrowcm.365dtm.com/events/details/no-first-tuesday-membership-meeting-07-01-2014-5383
END:VEVENT

END:VCALENDAR
