BEGIN:VCALENDAR
VERSION:2.0
PRODID:-//ChamberMaster//Event Calendar 2.0//EN
METHOD:PUBLISH
X-PUBLISHED-TTL:P3D
REFRESH-INTERVAL:P3D
CALSCALE:GREGORIAN
BEGIN:VEVENT
DTSTART;VALUE=DATE:20100706
DTEND;VALUE=DATE:20100707
TRANSP:TRANSPARENT
X-MICROSOFT-CDO-ALLDAYEVENT:TRUE
SUMMARY:NO First Tuesday membership meeting
DESCRIPTION:We will not have a meeting in July\, resume in August
X-ALT-DESC;FMTTYPE=text/html:We will not have a meeting in July\, resume in August
LOCATION:
UID:e.363.3555
SEQUENCE:3
DTSTAMP:20260425T015112Z
URL:https://barrowcm.365dtm.com/events/details/no-first-tuesday-membership-meeting-07-06-2010-3555
END:VEVENT

END:VCALENDAR
