BEGIN:VCALENDAR
VERSION:2.0
PRODID:-//ChamberMaster//Event Calendar 2.0//EN
METHOD:PUBLISH
X-PUBLISHED-TTL:P3D
REFRESH-INTERVAL:P3D
CALSCALE:GREGORIAN
BEGIN:VEVENT
DTSTART:20130330T023000Z
DTEND:20130330T033000Z
X-MICROSOFT-CDO-ALLDAYEVENT:FALSE
SUMMARY:No Network Barrow
DESCRIPTION:No Network Barrow\n\n"Where Business Leads Barrow"
X-ALT-DESC;FMTTYPE=text/html:&nbsp\;No Network Barrow<br />\n&quot\;Where Business Leads Barrow&quot\;
LOCATION:Chamber Office #6 Porter Street
UID:e.363.4849
SEQUENCE:3
DTSTAMP:20260423T022606Z
URL:https://barrowcm.365dtm.com/events/details/no-network-barrow-03-29-2013-4849
END:VEVENT

END:VCALENDAR
