BEGIN:VCALENDAR
VERSION:2.0
PRODID:-//ChamberMaster//Event Calendar 2.0//EN
METHOD:PUBLISH
X-PUBLISHED-TTL:P3D
REFRESH-INTERVAL:P3D
CALSCALE:GREGORIAN
BEGIN:VEVENT
DTSTART:20130628T130000Z
DTEND:20130628T140000Z
X-MICROSOFT-CDO-ALLDAYEVENT:FALSE
SUMMARY:NO Network Barrow
DESCRIPTION:Network Barrow\n\nFastest hour to pass leads
X-ALT-DESC;FMTTYPE=text/html:Network Barrow<br />\nFastest hour to pass leads
LOCATION:Barrow County Chamber #6 Porter Street\, Winder
UID:e.363.4879
SEQUENCE:3
DTSTAMP:20260422T220338Z
URL:https://barrowcm.365dtm.com/events/details/no-network-barrow-06-28-2013-4879
END:VEVENT

END:VCALENDAR
