BEGIN:VCALENDAR
VERSION:2.0
PRODID:-//ChamberMaster//Event Calendar 2.0//EN
METHOD:PUBLISH
X-PUBLISHED-TTL:P3D
REFRESH-INTERVAL:P3D
CALSCALE:GREGORIAN
BEGIN:VEVENT
DTSTART;VALUE=DATE:20130816
DTEND;VALUE=DATE:20130817
TRANSP:TRANSPARENT
X-MICROSOFT-CDO-ALLDAYEVENT:TRUE
SUMMARY:No Network Barrow
DESCRIPTION:
X-ALT-DESC;FMTTYPE=text/html:
LOCATION:
UID:e.363.5027
SEQUENCE:3
DTSTAMP:20260422T191525Z
URL:https://barrowcm.365dtm.com/events/details/no-network-barrow-08-16-2013-5027
END:VEVENT

END:VCALENDAR
