BEGIN:VCALENDAR
VERSION:2.0
PRODID:-//ChamberMaster//Event Calendar 2.0//EN
METHOD:PUBLISH
X-PUBLISHED-TTL:P3D
REFRESH-INTERVAL:P3D
CALSCALE:GREGORIAN
BEGIN:VEVENT
DTSTART:20130912T110000Z
DTEND:20130912T230000Z
X-MICROSOFT-CDO-ALLDAYEVENT:FALSE
SUMMARY:Office and Administrative Career Fair
DESCRIPTION:Randstad is hosting a Career Fair for Office and Administrative positions to help you get back into the swing of Fall!  Please plan to attend our yearly event and let Randstad help you find the job of your dreams with the excellent companies that we represent in the Winder\, Watkinsville\, Athens\, Monroe and Elberton areas. \n\n\n\nThe event will be held at the Athens Randstad Branch\, located at 196 Alps Road\, Athens\, GA 30606. \n\nThe hours of the event are from 7:00AM - 7:00PM on September 12\, 2013.\n\n\n\nPlease be sure to register online\, upload a resume and apply to one of our job postings on our website - www.randstadstaffing.com.  Come by anytime between 7:00AM-7:00PM on September 2th and expect great things in your future!  Bring a copy of your resume and your best interviewing skills.\n\n\n\nWe look forward to seeing you on the 12th!\n\nMarnie Walker\, Senior Branch Manager\n\nCarlene Sledge\, Senior Staffing Consultant - Office and Administration\n\nTalia Levine\, Staffing Consultant - Office and Administration\n\nHeather Varner\, Senior Staffing Consultant - Manufacturing and Logistics\n\nMolly Rentz\, Staffing Consultant - Manufacturing and Logistics
X-ALT-DESC;FMTTYPE=text/html:Randstad is hosting a Career Fair for Office and Administrative positions to help you get back into the swing of Fall!&nbsp\; Please plan to attend our yearly event and let Randstad help you find the job of your dreams with the excellent companies that we represent in the Winder\, Watkinsville\, Athens\, Monroe and Elberton areas.&nbsp\;<br />\n<br />\nThe event will be held at the Athens Randstad Branch\, located at 196 Alps Road\, Athens\, GA 30606.&nbsp\;<br />\nThe hours of the event are from 7:00AM - 7:00PM on September 12\, 2013.<br />\n<br />\nPlease be sure to register online\, upload a resume and apply to one of our job postings on our website - <a href="http://www.randstadstaffing.com">www.randstadstaffing.com</a>.&nbsp\; Come by anytime between 7:00AM-7:00PM on&nbsp\;September 2th and expect great things in your future!&nbsp\; Bring a copy of your resume and your best interviewing skills.<br />\n<br />\nWe look forward to seeing you on the 12th!<br />\nMarnie Walker\, Senior Branch Manager<br />\nCarlene Sledge\, Senior Staffing Consultant - Office and Administration<br />\nTalia Levine\, Staffing Consultant - Office and Administration<br />\nHeather Varner\, Senior Staffing Consultant - Manufacturing and Logistics<br />\nMolly Rentz\, Staffing Consultant - Manufacturing and Logistics&nbsp\;&nbsp\;&nbsp\;&nbsp\;<br />\n<br />\n<br />\n
LOCATION:196 Alps Road\, Suite 1\, Athens\, GA 30606
UID:e.363.5034
SEQUENCE:3
DTSTAMP:20260422T180013Z
URL:https://barrowcm.365dtm.com/events/details/office-and-administrative-career-fair-09-12-2013-5034
END:VEVENT

END:VCALENDAR
