BEGIN:VCALENDAR
VERSION:2.0
PRODID:-//ChamberMaster//Event Calendar 2.0//EN
METHOD:PUBLISH
X-PUBLISHED-TTL:P3D
REFRESH-INTERVAL:P3D
CALSCALE:GREGORIAN
BEGIN:VEVENT
DTSTART;VALUE=DATE:20100705
DTEND;VALUE=DATE:20100706
TRANSP:TRANSPARENT
X-MICROSOFT-CDO-ALLDAYEVENT:TRUE
SUMMARY:Office will be closed
DESCRIPTION:
X-ALT-DESC;FMTTYPE=text/html:
LOCATION:
UID:e.363.3554
SEQUENCE:3
DTSTAMP:20260425T014647Z
URL:https://barrowcm.365dtm.com/events/details/office-will-be-closed-07-05-2010-3554
END:VEVENT

END:VCALENDAR
