BEGIN:VCALENDAR
VERSION:2.0
PRODID:-//ChamberMaster//Event Calendar 2.0//EN
METHOD:PUBLISH
X-PUBLISHED-TTL:P3D
REFRESH-INTERVAL:P3D
CALSCALE:GREGORIAN
BEGIN:VEVENT
DTSTART;VALUE=DATE:20120705
DTEND;VALUE=DATE:20120706
TRANSP:TRANSPARENT
X-MICROSOFT-CDO-ALLDAYEVENT:TRUE
SUMMARY:Office will be closed
DESCRIPTION:Click here to edit...
X-ALT-DESC;FMTTYPE=text/html:<DIV style="COLOR: gray">Click here to edit...</DIV>
LOCATION:Click here to edit...
UID:e.363.4505
SEQUENCE:3
DTSTAMP:20260423T144730Z
URL:https://barrowcm.365dtm.com/events/details/office-will-be-closed-07-05-2012-4505
END:VEVENT

END:VCALENDAR
