BEGIN:VCALENDAR
VERSION:2.0
PRODID:-//ChamberMaster//Event Calendar 2.0//EN
METHOD:PUBLISH
X-PUBLISHED-TTL:P3D
REFRESH-INTERVAL:P3D
CALSCALE:GREGORIAN
BEGIN:VEVENT
DTSTART:20130404T203000Z
DTEND:20130404T233000Z
X-MICROSOFT-CDO-ALLDAYEVENT:FALSE
SUMMARY:OKA Shoe Special Order Event and Artist Jeanne Stern Reception
DESCRIPTION:Evening at the Gallery Reception with Artist of the Month Jeanne Stern\n\n	OKA Shoe Special Order Kick-Off
X-ALT-DESC;FMTTYPE=text/html:<p>\n	<span style="font-family: comic sans ms\;"><span style="font-size: 12px\;"><span style="color: rgb(0\, 0\, 205)\;"><span style="font-size: 14px\;"><strong>Evening at the Gallery Reception with Artist of the Month Jeanne Stern<br />\n	OKA Shoe Special Order Kick-Off</strong></span><br />\n	&nbsp\;</span></span></span></p>\n
LOCATION:The Principal's Palette Gallery & Gift Boutique
UID:e.363.4859
SEQUENCE:3
DTSTAMP:20260423T011954Z
URL:https://barrowcm.365dtm.com/events/details/oka-shoe-special-order-event-and-artist-jeanne-stern-reception-04-04-2013-4859
END:VEVENT

END:VCALENDAR
