BEGIN:VCALENDAR
VERSION:2.0
PRODID:-//ChamberMaster//Event Calendar 2.0//EN
METHOD:PUBLISH
X-PUBLISHED-TTL:P3D
REFRESH-INTERVAL:P3D
CALSCALE:GREGORIAN
BEGIN:VEVENT
DTSTART;VALUE=DATE:20160224
DTEND;VALUE=DATE:20160225
TRANSP:TRANSPARENT
X-MICROSOFT-CDO-ALLDAYEVENT:TRUE
SUMMARY:Operation Thank You
DESCRIPTION:Operation Thank you\, Chamber will come visit you to\n\nSay Thank you for being a member
X-ALT-DESC;FMTTYPE=text/html:Operation Thank you\, Chamber will come visit you to<br />\nSay Thank you for being a member
LOCATION:
UID:e.363.5857
SEQUENCE:3
DTSTAMP:20260420T172345Z
URL:https://barrowcm.365dtm.com/events/details/operation-thank-you-02-24-2016-5857
END:VEVENT

END:VCALENDAR
