BEGIN:VCALENDAR
VERSION:2.0
PRODID:-//ChamberMaster//Event Calendar 2.0//EN
METHOD:PUBLISH
X-PUBLISHED-TTL:P3D
REFRESH-INTERVAL:P3D
CALSCALE:GREGORIAN
BEGIN:VEVENT
DTSTART;VALUE=DATE:20130228
DTEND;VALUE=DATE:20130301
TRANSP:TRANSPARENT
X-MICROSOFT-CDO-ALLDAYEVENT:TRUE
SUMMARY:Operation Thank You!
DESCRIPTION:Click here to edit...
X-ALT-DESC;FMTTYPE=text/html:<div style="color: gray\;">Click here to edit...</div>
LOCATION:Click here to edit...
UID:e.363.4816
SEQUENCE:3
DTSTAMP:20260423T041737Z
URL:https://barrowcm.365dtm.com/events/details/operation-thank-you-02-28-2013-4816
END:VEVENT

END:VCALENDAR
