BEGIN:VCALENDAR
VERSION:2.0
PRODID:-//ChamberMaster//Event Calendar 2.0//EN
METHOD:PUBLISH
X-PUBLISHED-TTL:P3D
REFRESH-INTERVAL:P3D
CALSCALE:GREGORIAN
BEGIN:VEVENT
DTSTART:20111208T160000Z
DTEND:20111208T180000Z
X-MICROSOFT-CDO-ALLDAYEVENT:FALSE
SUMMARY:Party by the Table
DESCRIPTION:Make your holiday gathering elegant and\n\n	memorable this season at Carl House. \n\n	 \n\n	 Celebrate the holiday by bringing your office\, family or friends to our Holiday Buffet.\n\n	$26.50 per person plus tax and service\n\n	R.S.V.P. by December 2nd\n\n	\n\n	  www.carlhouse.com\n\n	770-586-0095
X-ALT-DESC;FMTTYPE=text/html:<p style="text-align: center">\n	<span style="font-size: 14px"><span style="font-family: verdana"><strong><span style="color: #006400">Make your holiday gathering elegant and<br />\n	memorable this season at Carl House.&nbsp\;</span></strong></span></span><br />\n	<span _fck_bookmark="1" style="display: none">&nbsp\;</span><br />\n	<span _fck_bookmark="1" style="display: none">&nbsp\;</span><span style="font-size: 14px"><span style="font-family: verdana"><strong>Celebrate the holiday by bringing your office\, family or friends to our Holiday Buffet.<br />\n	$26.50 per person plus tax and service<br />\n	R.S.V.P. by December 2nd<br />\n	<br />\n	<span _fck_bookmark="1" style="display: none">&nbsp\;</span><span _fck_bookmark="1" style="display: none">&nbsp\;</span>www.carlhouse.com</strong></span></span></p>\n<p style="text-align: center">\n	<strong><span style="font-size: 14px"><span style="font-family: verdana">770-586-0095</span></span></strong></p>\n
LOCATION:Carl House
UID:e.363.4106
SEQUENCE:3
DTSTAMP:20260424T012658Z
URL:https://barrowcm.365dtm.com/events/details/party-by-the-table-12-08-2011-4106
END:VEVENT

END:VCALENDAR
