BEGIN:VCALENDAR
VERSION:2.0
PRODID:-//ChamberMaster//Event Calendar 2.0//EN
METHOD:PUBLISH
X-PUBLISHED-TTL:P3D
REFRESH-INTERVAL:P3D
CALSCALE:GREGORIAN
BEGIN:VEVENT
DTSTART;VALUE=DATE:20090619
DTEND;VALUE=DATE:20090701
TRANSP:TRANSPARENT
X-MICROSOFT-CDO-ALLDAYEVENT:TRUE
SUMMARY:Path2College offers FREE Sonic(r) Vanilla Twist Coupon
DESCRIPTION:Spring is in the air. From kindergartners to high school seniors\, Georgia's youth are busting out of their desks ready to enjoy the warm sunny days of summer vacation. But before that final bell rings\, the Path2College 529 Plan has partnered up with Sonic(r)\, America's Drive-In(r)\, to kick-off summer by rewarding rising pre-k students with a coupon to buy one cone and get another FREE at participating Sonic locations. Starting May 1 through June 30\, 2009\, parents can go to www.Path2College529.com to print a coupon for their eligible children.
X-ALT-DESC;FMTTYPE=text/html:Spring is in the air. From kindergartners to high school seniors\, Georgia's youth are busting out of their desks ready to enjoy the warm sunny days of summer vacation. But before that final bell rings\, the Path2College 529 Plan has partnered up with Sonic(r)\, America's Drive-In(r)\, to kick-off summer by rewarding rising pre-k students with a coupon to buy one cone and get another FREE at participating Sonic locations. Starting May 1 through June 30\, 2009\, parents can go to www.Path2College529.com to print a coupon for their eligible children. 
LOCATION:All participating Sonic locations
UID:e.363.3022
SEQUENCE:3
DTSTAMP:20260425T215155Z
URL:https://barrowcm.365dtm.com/events/details/path2college-offers-free-sonic-r-vanilla-twist-coupon-06-19-2009-3022
END:VEVENT

END:VCALENDAR
