BEGIN:VCALENDAR
VERSION:2.0
PRODID:-//ChamberMaster//Event Calendar 2.0//EN
METHOD:PUBLISH
X-PUBLISHED-TTL:P3D
REFRESH-INTERVAL:P3D
CALSCALE:GREGORIAN
BEGIN:VEVENT
DTSTART:20150423T180000Z
DTEND:20150423T193000Z
X-MICROSOFT-CDO-ALLDAYEVENT:FALSE
SUMMARY:PAY Day at Apalachee High School
DESCRIPTION:Barrow County High School student will take part in PAY Day\n\nat Apalachee H. S.
X-ALT-DESC;FMTTYPE=text/html:Barrow County High School student will take part in PAY Day<br />\nat Apalachee H. S.
LOCATION:Apalachee High School
UID:e.363.5774
SEQUENCE:3
DTSTAMP:20260421T092051Z
URL:https://barrowcm.365dtm.com/events/details/pay-day-at-apalachee-high-school-04-23-2015-5774
END:VEVENT

END:VCALENDAR
