BEGIN:VCALENDAR
VERSION:2.0
PRODID:-//ChamberMaster//Event Calendar 2.0//EN
METHOD:PUBLISH
X-PUBLISHED-TTL:P3D
REFRESH-INTERVAL:P3D
CALSCALE:GREGORIAN
BEGIN:VEVENT
DTSTART:20150428T180000Z
DTEND:20150428T193000Z
X-MICROSOFT-CDO-ALLDAYEVENT:FALSE
SUMMARY:PAY Day at Winder Barrow HS
DESCRIPTION:Barrow County High School students will take part in PAY Day
X-ALT-DESC;FMTTYPE=text/html:Barrow County High School students will take part in PAY Day
LOCATION:Winder Barrow High School
UID:e.363.5773
SEQUENCE:3
DTSTAMP:20260421T092014Z
URL:https://barrowcm.365dtm.com/events/details/pay-day-at-winder-barrow-hs-04-28-2015-5773
END:VEVENT

END:VCALENDAR
