BEGIN:VCALENDAR
VERSION:2.0
PRODID:-//ChamberMaster//Event Calendar 2.0//EN
METHOD:PUBLISH
X-PUBLISHED-TTL:P3D
REFRESH-INTERVAL:P3D
CALSCALE:GREGORIAN
BEGIN:VEVENT
DTSTART:20130608T113000Z
DTEND:20130608T160000Z
X-MICROSOFT-CDO-ALLDAYEVENT:FALSE
SUMMARY:Peace Place 3rd Annual 5K
DESCRIPTION:Runners and walkers of all levela are welcome to join us as we race through the beautiful trails of Fort Yargo State Park.\n\nRegister online at active.com or download a mail-in registration from our website www.peaceplaceinc.org/5k.html
X-ALT-DESC;FMTTYPE=text/html:Runners and walkers of all levela are welcome to join us as we race through the beautiful trails of Fort Yargo State Park.<br />\nRegister online at active.com or download a mail-in registration from our website <a href="http://www.peaceplaceinc.org/5k.html">www.peaceplaceinc.org/5k.html</a>
LOCATION:Fort Yargo State Park\, Winder\, GA
UID:e.363.4890
SEQUENCE:3
DTSTAMP:20260422T220536Z
URL:https://barrowcm.365dtm.com/events/details/peace-place-3rd-annual-5k-06-08-2013-4890
END:VEVENT

END:VCALENDAR
