BEGIN:VCALENDAR
VERSION:2.0
PRODID:-//ChamberMaster//Event Calendar 2.0//EN
METHOD:PUBLISH
X-PUBLISHED-TTL:P3D
REFRESH-INTERVAL:P3D
CALSCALE:GREGORIAN
BEGIN:VEVENT
DTSTART:20140614T113000Z
DTEND:20140614T143000Z
X-MICROSOFT-CDO-ALLDAYEVENT:FALSE
SUMMARY:Peace Place 5K to End Domestic Violence
DESCRIPTION:Peace Place will have our annual 5K trail run and walk at Fort Yargo State Park.  Race-Day Registration 7:30am -8:30 am Race Start Time 9:00 am  As usual\, we will be using Classic Race Services for timing the event.
X-ALT-DESC;FMTTYPE=text/html:Peace Place will have our annual 5K trail run and walk at Fort Yargo State Park.&nbsp\; Race-Day Registration 7:30am -8:30 am&nbsp\;Race Start Time 9:00 am&nbsp\; As usual\, we will be using Classic Race Services for timing the event.
LOCATION:Fort Yargo State Park\, Winder\, GA
UID:e.363.5417
SEQUENCE:3
DTSTAMP:20260422T002940Z
URL:https://barrowcm.365dtm.com/events/details/peace-place-5k-to-end-domestic-violence-06-14-2014-5417
END:VEVENT

END:VCALENDAR
