BEGIN:VCALENDAR
VERSION:2.0
PRODID:-//ChamberMaster//Event Calendar 2.0//EN
METHOD:PUBLISH
X-PUBLISHED-TTL:P3D
REFRESH-INTERVAL:P3D
CALSCALE:GREGORIAN
BEGIN:VEVENT
DTSTART:20121002T223000Z
DTEND:20121003T003000Z
X-MICROSOFT-CDO-ALLDAYEVENT:FALSE
SUMMARY:Peace Place Candlelight VIgil
DESCRIPTION:The candle light vigil will commence with a brief introduction of the awareness art exhibit at the Old Barrow County Courthouse followed by a march to the Winder Pavillion for the official candle light ceremony to honor those who have lost their lives to domestic violence.
X-ALT-DESC;FMTTYPE=text/html:The candle light vigil will commence with a brief introduction of the awareness art exhibit at the Old Barrow County Courthouse followed by a march to the Winder Pavillion for the official candle light ceremony to honor those who have lost their lives to domestic violence.
LOCATION:Old Barrow Courthouse/ Pavillion
UID:e.363.4566
SEQUENCE:3
DTSTAMP:20260423T101629Z
URL:https://barrowcm.365dtm.com/events/details/peace-place-candlelight-vigil-10-02-2012-4566
END:VEVENT

END:VCALENDAR
