BEGIN:VCALENDAR
VERSION:2.0
PRODID:-//ChamberMaster//Event Calendar 2.0//EN
METHOD:PUBLISH
X-PUBLISHED-TTL:P3D
REFRESH-INTERVAL:P3D
CALSCALE:GREGORIAN
BEGIN:VEVENT
DTSTART:20121016T230000Z
DTEND:20121017T000000Z
X-MICROSOFT-CDO-ALLDAYEVENT:FALSE
SUMMARY:Peace Place Candlelight Vigil ~ Jackson County
DESCRIPTION:To honor those who have lost their lives to Domestic Violence
X-ALT-DESC;FMTTYPE=text/html:To honor those who have lost their lives to Domestic Violence
LOCATION:Jackson County Courthouse
UID:e.363.4778
SEQUENCE:3
DTSTAMP:20260423T102108Z
URL:https://barrowcm.365dtm.com/events/details/peace-place-candlelight-vigil-jackson-county-10-16-2012-4778
END:VEVENT

END:VCALENDAR
