BEGIN:VCALENDAR
VERSION:2.0
PRODID:-//ChamberMaster//Event Calendar 2.0//EN
METHOD:PUBLISH
X-PUBLISHED-TTL:P3D
REFRESH-INTERVAL:P3D
CALSCALE:GREGORIAN
BEGIN:VEVENT
DTSTART:20140429T140000Z
DTEND:20140429T200000Z
X-MICROSOFT-CDO-ALLDAYEVENT:FALSE
SUMMARY:postponed Golf Tournament Barrow County Chamber
DESCRIPTION:Moved to June 10th\n\nChamber Golf tournament will be at Chateau Elan\, The Legends
X-ALT-DESC;FMTTYPE=text/html:Moved to June 10th<br />\nChamber Golf tournament will be at Chateau Elan\, The Legends
LOCATION:
UID:e.363.5398
SEQUENCE:3
DTSTAMP:20260422T035038Z
URL:https://barrowcm.365dtm.com/events/details/postponed-golf-tournament-barrow-county-chamber-04-29-2014-5398
END:VEVENT

END:VCALENDAR
