BEGIN:VCALENDAR
VERSION:2.0
PRODID:-//ChamberMaster//Event Calendar 2.0//EN
METHOD:PUBLISH
X-PUBLISHED-TTL:P3D
REFRESH-INTERVAL:P3D
CALSCALE:GREGORIAN
BEGIN:VEVENT
DTSTART:20110617T223000Z
DTEND:20110618T020000Z
X-MICROSOFT-CDO-ALLDAYEVENT:FALSE
SUMMARY:Potluck Dinner/Fellowship
DESCRIPTION:Potluck Dinner and fellowship. Free! Just bring your favorite dish. (donations accepted)
X-ALT-DESC;FMTTYPE=text/html:Potluck Dinner and fellowship. Free! Just bring your favorite dish. (donations accepted)
LOCATION:American Legion Post #53\, 456 Watson Rd. Winder\, Ga. (770)586-5147
UID:e.363.4044
SEQUENCE:3
DTSTAMP:20260424T092543Z
URL:https://barrowcm.365dtm.com/events/details/potluck-dinner-fellowship-06-17-2011-4044
END:VEVENT

END:VCALENDAR
