BEGIN:VCALENDAR
VERSION:2.0
PRODID:-//ChamberMaster//Event Calendar 2.0//EN
METHOD:PUBLISH
X-PUBLISHED-TTL:P3D
REFRESH-INTERVAL:P3D
CALSCALE:GREGORIAN
BEGIN:VEVENT
DTSTART:20100831T151500Z
DTEND:20100831T163000Z
X-MICROSOFT-CDO-ALLDAYEVENT:FALSE
SUMMARY:Power Lunch @ Fatz Cafe
DESCRIPTION:Power Lunch at Fatz CafeGreat time to network!
X-ALT-DESC;FMTTYPE=text/html:<div>Power Lunch at Fatz Cafe</div><div>Great time to network!</div>
LOCATION:442 Atlanta HwyWinder\,Ga
UID:e.363.3585
SEQUENCE:3
DTSTAMP:20260425T001242Z
URL:https://barrowcm.365dtm.com/events/details/power-lunch-fatz-cafe-08-31-2010-3585
END:VEVENT

END:VCALENDAR
