BEGIN:VCALENDAR
VERSION:2.0
PRODID:-//ChamberMaster//Event Calendar 2.0//EN
METHOD:PUBLISH
X-PUBLISHED-TTL:P3D
REFRESH-INTERVAL:P3D
CALSCALE:GREGORIAN
BEGIN:VEVENT
DTSTART:20101019T151500Z
DTEND:20101019T163000Z
X-MICROSOFT-CDO-ALLDAYEVENT:FALSE
SUMMARY:Power Luncheon
DESCRIPTION:Building great relationships and rapport with other business owners.  Great Networking.
X-ALT-DESC;FMTTYPE=text/html:Building great relationships and rapport with other business owners.  Great Networking.
LOCATION:Barberitos 64 E. May St.\, Winder\, GA
UID:e.363.3614
SEQUENCE:3
DTSTAMP:20260424T212938Z
URL:https://barrowcm.365dtm.com/events/details/power-luncheon-10-19-2010-3614
END:VEVENT

END:VCALENDAR
