BEGIN:VCALENDAR
VERSION:2.0
PRODID:-//ChamberMaster//Event Calendar 2.0//EN
METHOD:PUBLISH
X-PUBLISHED-TTL:P3D
REFRESH-INTERVAL:P3D
CALSCALE:GREGORIAN
BEGIN:VEVENT
DTSTART:20101026T151500Z
DTEND:20101026T163000Z
X-MICROSOFT-CDO-ALLDAYEVENT:FALSE
SUMMARY:Power Luncheon
DESCRIPTION:Building great relationships and rapport with other business owners.  Great Newtworking!
X-ALT-DESC;FMTTYPE=text/html:Building great relationships and rapport with other business owners.  Great Newtworking!
LOCATION:Ruby Tuesday\, 25 S. Broad St.\, Winder
UID:e.363.3615
SEQUENCE:3
DTSTAMP:20260424T213046Z
URL:https://barrowcm.365dtm.com/events/details/power-luncheon-10-26-2010-3615
END:VEVENT

END:VCALENDAR
