BEGIN:VCALENDAR
VERSION:2.0
PRODID:-//ChamberMaster//Event Calendar 2.0//EN
METHOD:PUBLISH
X-PUBLISHED-TTL:P3D
REFRESH-INTERVAL:P3D
CALSCALE:GREGORIAN
BEGIN:VEVENT
DTSTART:20100907T151500Z
DTEND:20100907T163000Z
X-MICROSOFT-CDO-ALLDAYEVENT:FALSE
SUMMARY:Power Luncheon - Smokin-Po-Boys BBQ
DESCRIPTION:Business Luncheon to Network\, Socialize and eat great food.
X-ALT-DESC;FMTTYPE=text/html:Business Luncheon to Network\, Socialize and eat great food.
LOCATION:Smokin-P0-Boys BBQ\, 67 West Athens St.\, Winder
UID:e.363.3586
SEQUENCE:3
DTSTAMP:20260424T224301Z
URL:https://barrowcm.365dtm.com/events/details/power-luncheon-smokin-po-boys-bbq-09-07-2010-3586
END:VEVENT

END:VCALENDAR
