BEGIN:VCALENDAR
VERSION:2.0
PRODID:-//ChamberMaster//Event Calendar 2.0//EN
METHOD:PUBLISH
X-PUBLISHED-TTL:P3D
REFRESH-INTERVAL:P3D
CALSCALE:GREGORIAN
BEGIN:VEVENT
DTSTART:20140816T120000Z
DTEND:20140816T160000Z
X-MICROSOFT-CDO-ALLDAYEVENT:FALSE
SUMMARY:Primal Rush OCR 2014
DESCRIPTION:The Primal Rush OCR is sure to bring out the savage in you as you run a nearly 4 mile course of water\, dirt\, mud and obstacles to trip you up at every turn. Oh yeah\; and how about we throw in a swim for good measure. Participants will race to the finish for prizes\, medals and bragging rights as they crawl\, climb and fight their way to the gritty finish. Not running the race? Come out as a spectator and cheer on the racers! Primal Rush benefits The Tree House\, a non-profit organization whose mission is to reduce the impact and occurrence of child abuse through counseling\, educating\, supporting and nurturing children and families in Barrow\, Banks and Jackson Counties.
X-ALT-DESC;FMTTYPE=text/html:The Primal Rush OCR is sure to bring out the savage in you as you run a nearly 4 mile course of water\, dirt\, mud and obstacles to trip you up at every turn. Oh yeah\; and how about we throw in a swim for good measure. Participants will race to the finish for prizes\, medals and bragging rights as they crawl\, climb and fight their way to the gritty finish. Not running the race? Come out as a spectator and cheer on the racers! Primal Rush benefits The Tree House\, a non-profit organization whose mission is to reduce the impact and occurrence of child abuse through counseling\, educating\, supporting and nurturing children and families in Barrow\, Banks and Jackson Counties.
LOCATION:Crow's Lake in Jefferson\, Georgia. Crow's Lake is located just 50 minutes NE of Atlanta off I85. Crow's Lake Inc. 155 Crow's Lake Dr. Jefferson\, GA 30549
UID:e.363.5433
SEQUENCE:3
DTSTAMP:20260421T214343Z
URL:https://barrowcm.365dtm.com/events/details/primal-rush-ocr-2014-08-16-2014-5433
END:VEVENT

END:VCALENDAR
