BEGIN:VCALENDAR
VERSION:2.0
PRODID:-//ChamberMaster//Event Calendar 2.0//EN
METHOD:PUBLISH
X-PUBLISHED-TTL:P3D
REFRESH-INTERVAL:P3D
CALSCALE:GREGORIAN
BEGIN:VEVENT
DTSTART:20090429T104500Z
DTEND:20090429T110000Z
X-MICROSOFT-CDO-ALLDAYEVENT:FALSE
SUMMARY:Publix Ribbon Cutting
DESCRIPTION:The Publix Store will be opening.  The ribbon cutting will take place\nat 6:45 before the store opens at 7:00
X-ALT-DESC;FMTTYPE=text/html:The Publix Store will be opening.  The ribbon cutting will take place\nat 6:45 before the store opens at 7:00
LOCATION:Barrow Crossing
UID:e.363.2709
SEQUENCE:3
DTSTAMP:20260426T011514Z
URL:https://barrowcm.365dtm.com/events/details/publix-ribbon-cutting-04-29-2009-2709
END:VEVENT

END:VCALENDAR
