BEGIN:VCALENDAR
VERSION:2.0
PRODID:-//ChamberMaster//Event Calendar 2.0//EN
METHOD:PUBLISH
X-PUBLISHED-TTL:P3D
REFRESH-INTERVAL:P3D
CALSCALE:GREGORIAN
BEGIN:VEVENT
DTSTART:20120609T123000Z
DTEND:20120609T160000Z
X-MICROSOFT-CDO-ALLDAYEVENT:FALSE
SUMMARY:Race to End Domestic Violence
DESCRIPTION:Welcome to Peace Place's 2nd Annual Race to End Domestic Violence.  This is a 5K trail run through the beautiful Fort Yargo State Park.  You may register for the 5K at Active.Com by entering The Race to End Domestic Violence.\n\nRegistration is $15 in advance and $ 20 the day of the race.  All proceeds benefit Peace Place Inc.  which has been providing services to victims of domestic violence in Barrow\, Jackson and Banks County since 2000. Together we can make a difference.
X-ALT-DESC;FMTTYPE=text/html:Welcome to Peace Place&#39\;s 2nd Annual Race to End Domestic Violence. &nbsp\;This is a 5K trail run through the beautiful Fort Yargo State Park. &nbsp\;You may register for the 5K at Active.Com by entering The Race to End Domestic Violence.<br />\nRegistration is $15 in advance and $ 20 the day of the race. &nbsp\;All proceeds benefit Peace Place Inc. &nbsp\;which has been providing services to victims of domestic violence in Barrow\, Jackson and Banks County since 2000. Together we can make a difference.
LOCATION:Fort Yargo State Park
UID:e.363.4502
SEQUENCE:3
DTSTAMP:20260423T162720Z
URL:https://barrowcm.365dtm.com/events/details/race-to-end-domestic-violence-06-09-2012-4502
END:VEVENT

END:VCALENDAR
