BEGIN:VCALENDAR
VERSION:2.0
PRODID:-//ChamberMaster//Event Calendar 2.0//EN
METHOD:PUBLISH
X-PUBLISHED-TTL:P3D
REFRESH-INTERVAL:P3D
CALSCALE:GREGORIAN
BEGIN:VEVENT
DTSTART:20150815T140000Z
DTEND:20150815T180000Z
X-MICROSOFT-CDO-ALLDAYEVENT:FALSE
SUMMARY:RC Flyers & Vinatage Camper Show
DESCRIPTION:RC Flyers & Vintage Camper Show in Statham
X-ALT-DESC;FMTTYPE=text/html:RC Flyers &amp\; Vintage Camper Show in Statham
LOCATION:Statham\, Ga
UID:e.363.5784
SEQUENCE:3
DTSTAMP:20260421T023947Z
URL:https://barrowcm.365dtm.com/events/details/rc-flyers-vinatage-camper-show-08-15-2015-5784
END:VEVENT

END:VCALENDAR
