BEGIN:VCALENDAR
VERSION:2.0
PRODID:-//ChamberMaster//Event Calendar 2.0//EN
METHOD:PUBLISH
X-PUBLISHED-TTL:P3D
REFRESH-INTERVAL:P3D
CALSCALE:GREGORIAN
BEGIN:VEVENT
DTSTART:20110929T020000Z
DTEND:20110929T023000Z
X-MICROSOFT-CDO-ALLDAYEVENT:FALSE
SUMMARY:Re-Open Community and Southern Bank
DESCRIPTION:Re-Opening Community and Southern Bank
X-ALT-DESC;FMTTYPE=text/html:Re-Opening Community and Southern Bank<br />\n
LOCATION:76 N. Broad Street\, Winder
UID:e.363.4073
SEQUENCE:3
DTSTAMP:20260424T054225Z
URL:https://barrowcm.365dtm.com/events/details/re-open-community-and-southern-bank-09-28-2011-4073
END:VEVENT

END:VCALENDAR
