BEGIN:VCALENDAR
VERSION:2.0
PRODID:-//ChamberMaster//Event Calendar 2.0//EN
METHOD:PUBLISH
X-PUBLISHED-TTL:P3D
REFRESH-INTERVAL:P3D
CALSCALE:GREGORIAN
BEGIN:VEVENT
DTSTART:20150930T160000Z
DTEND:20150930T160000Z
X-MICROSOFT-CDO-ALLDAYEVENT:FALSE
SUMMARY:Reach GA/ with Gov. Deal
DESCRIPTION:Reach GA / With Gov. Deal
X-ALT-DESC;FMTTYPE=text/html:Reach GA / With Gov. Deal<br />\n&nbsp\;
LOCATION:Sims Academy
UID:e.363.5817
SEQUENCE:3
DTSTAMP:20260421T011238Z
URL:https://barrowcm.365dtm.com/events/details/reach-ga-with-gov-deal-09-30-2015-5817
END:VEVENT

END:VCALENDAR
