BEGIN:VCALENDAR
VERSION:2.0
PRODID:-//ChamberMaster//Event Calendar 2.0//EN
METHOD:PUBLISH
X-PUBLISHED-TTL:P3D
REFRESH-INTERVAL:P3D
CALSCALE:GREGORIAN
BEGIN:VEVENT
DTSTART:20110317T211500Z
DTEND:20110317T231500Z
X-MICROSOFT-CDO-ALLDAYEVENT:FALSE
SUMMARY:Regional Business After Hours
DESCRIPTION:Regional Business after Hours\n\n	Athens\, Barrow\, Jacksn\, Madison\, Oconee\, and Walton County Chambers\n\n	all at this Business after Hours
X-ALT-DESC;FMTTYPE=text/html:<p>\n	Regional Business after Hours</p>\n<p>\n	Athens\, Barrow\, Jacksn\, Madison\, Oconee\, and Walton County Chambers<br />\n	all at this Business after Hours<br />\n	&nbsp\;</p>\n
LOCATION:The Georgia Club 685 Barber Creek \, Statham\, GA
UID:e.363.3679
SEQUENCE:3
DTSTAMP:20260424T134448Z
URL:https://barrowcm.365dtm.com/events/details/regional-business-after-hours-03-17-2011-3679
END:VEVENT

END:VCALENDAR
