BEGIN:VCALENDAR
VERSION:2.0
PRODID:-//ChamberMaster//Event Calendar 2.0//EN
METHOD:PUBLISH
X-PUBLISHED-TTL:P3D
REFRESH-INTERVAL:P3D
CALSCALE:GREGORIAN
BEGIN:VEVENT
DTSTART;VALUE=DATE:20121024
DTEND;VALUE=DATE:20121025
TRANSP:TRANSPARENT
X-MICROSOFT-CDO-ALLDAYEVENT:TRUE
SUMMARY:Retail Seminar for Small Retailers
DESCRIPTION:On October 24\, 2012\, Atlanta Retail Consulting Seminars will offer a one-day Retail Seminar here in Atlanta focused on small retailers (having annual sales of approximately $100 million or less). The seminar will be held at:\n\n	 \n\n	 \n\n	La Quinta Inns & Suites\n\n	6260 Peachtree Dunwoody Road\, N.E.\n\n	Atlanta\, Georgia 30328 \n\n	\n\n	\n\n	Located just west of Perimeter Mall on Hammond Road\, then north on Peachtree Dunwoody Road\n\n	Hotel Phone is 770-350-6177 for further directions\n\n	\n\n	\n\n	 \n\n	The seminar doors will open at 8:00am and the session will begin at 8:30am. The purpose of the seminar will be to give hard-goods (sellers of boxed merchandise) and soft-goods (sellers of apparel & clothing related items) retailers a chance to learn about many of the techniques and secrets utilized by the large successful retailers - to help them grow revenue and reduce their operating expense. \n\n	 \n\n	The session will deal with a broad array of retail topics and offer the participants a chance to learn more about retail in one day than through any other means we know of. With our economy beginning to show a few early signs of possible recovery\, this would be a valuable learning experience for an existing retailer or anyone even thinking of starting a retail business. \n\n	 \n\n	For more information about the content of the seminar and to register\, please visit our website at:   www.Seminars.AtlantaRetailConsulting.com
X-ALT-DESC;FMTTYPE=text/html:<p class="MsoNormal" style="line-height: normal\; margin: 0in 0in 0pt">\n	<span style="color: #181818\; mso-fareast-font-family: 'times new roman'\; mso-bidi-font-family: arial"><font size="3">On October 24\, 2012\, Atlanta Retail Consulting Seminars will offer a one-day Retail Seminar here in Atlanta focused on small retailers (having annual sales of approximately $100 million or less). The seminar will be held at:<o:p></o:p></font></span></p>\n<p class="MsoNormal" style="line-height: normal\; margin: 0in 0in 0pt">\n	<span style="color: #181818\; mso-fareast-font-family: 'times new roman'\; mso-bidi-font-family: arial"><o:p><font size="3">&nbsp\;</font></o:p></span></p>\n<p class="MsoNormal" style="line-height: normal\; margin: 0in 0in 0pt">\n	<span style="mso-fareast-font-family: 'times new roman'\; mso-bidi-font-family: arial"><o:p><font color="#000000" size="3">&nbsp\;</font></o:p></span></p>\n<p class="MsoNormal" style="line-height: normal\; margin: 0in 0in 0pt">\n	<font color="#000000"><font size="3"><b><span style="mso-fareast-font-family: 'times new roman'\; mso-bidi-font-family: arial">La Quinta Inns &amp\; Suites</span></b><span style="mso-fareast-font-family: 'times new roman'\; mso-bidi-font-family: arial"><o:p></o:p></span></font></font></p>\n<p class="MsoNormal" style="line-height: normal\; margin: 0in 0in 0pt">\n	<b><span style="mso-fareast-font-family: 'times new roman'\; mso-bidi-font-family: arial"><font color="#000000" size="3">6260 Peachtree Dunwoody Road\, N.E.</font></span></b><br />\n	<span style="mso-fareast-font-family: 'times new roman'\; mso-bidi-font-family: arial"><font color="#000000"><font size="3"><b>Atlanta\, Georgia 30328 </b><br style="mso-special-character: line-break" />\n	<br style="mso-special-character: line-break" />\n	<b><o:p></o:p></b></font></font></span></p>\n<p class="MsoNormal" style="line-height: normal\; margin: 0in 0in 0pt">\n	<b><span style="mso-fareast-font-family: 'times new roman'\; mso-bidi-font-family: arial"><font color="#000000" size="3">Located just west of Perimeter Mall on Hammond Road\, then north on Peachtree Dunwoody Road</font></span></b><br />\n	<span style="mso-fareast-font-family: 'times new roman'\; mso-bidi-font-family: arial"><font color="#000000"><font size="3"><b>Hotel Phone is 770-350-6177 for further directions</b><br style="mso-special-character: line-break" />\n	<br style="mso-special-character: line-break" />\n	<o:p></o:p></font></font></span></p>\n<p class="MsoNormal" style="line-height: normal\; margin: 0in 0in 0pt">\n	<span style="color: #181818\; mso-fareast-font-family: 'times new roman'\; mso-bidi-font-family: arial"><o:p><font size="3">&nbsp\;</font></o:p></span></p>\n<p class="MsoNormal" style="line-height: normal\; margin: 0in 0in 0pt">\n	<span style="color: #181818\; mso-fareast-font-family: 'times new roman'\; mso-bidi-font-family: arial"><font size="3">The seminar doors will open at 8:00am and the session will begin at 8:30am. The purpose of the seminar will be to give hard-goods (sellers of boxed merchandise) and soft-goods (sellers of apparel &amp\; clothing related items) retailers a chance to learn about many of the techniques and secrets utilized by the large successful retailers - to help them grow revenue and reduce their operating expense. <o:p></o:p></font></span></p>\n<p class="MsoNormal" style="line-height: normal\; margin: 0in 0in 0pt">\n	<span style="color: #181818\; mso-fareast-font-family: 'times new roman'\; mso-bidi-font-family: arial"><o:p><font size="3">&nbsp\;</font></o:p></span></p>\n<p class="MsoNormal" style="line-height: normal\; margin: 0in 0in 0pt">\n	<span style="color: #181818\; mso-fareast-font-family: 'times new roman'\; mso-bidi-font-family: arial"><font size="3">The session will deal with a broad array of retail topics and offer the participants a chance to learn more about retail in one day than through any other means we know of. With our economy beginning to show a few early signs of possible recovery\, this would be a valuable learning experience for an existing retailer or anyone even thinking of starting a retail business. <o:p></o:p></font></span></p>\n<p class="MsoNormal" style="line-height: normal\; margin: 0in 0in 0pt">\n	<span style="color: #181818\; mso-fareast-font-family: 'times new roman'\; mso-bidi-font-family: arial"><o:p><font size="3">&nbsp\;</font></o:p></span></p>\n<p class="MsoNormal" style="line-height: normal\; margin: 0in 0in 0pt">\n	<span style="color: #181818\; mso-fareast-font-family: 'times new roman'\; mso-bidi-font-family: arial"><font size="3">For more information about the content of the seminar and to register\, please visit our website at:<span style="mso-spacerun: yes">&nbsp\;&nbsp\; </span><b style="mso-bidi-font-weight: normal"><i style="mso-bidi-font-style: normal">www.Seminars.AtlantaRetailConsulting.com</i></b><o:p></o:p></font></span></p>\n<p class="MsoNormal" style="line-height: normal\; margin: 0in 0in 0pt">\n	<span style="color: #181818\; mso-fareast-font-family: 'times new roman'\; mso-bidi-font-family: arial"><o:p><font size="3">&nbsp\;</font></o:p></span></p>\n<p class="MsoNormal" style="line-height: normal\; margin: 0in 0in 0pt">\n	<span style="color: #181818\; font-size: 10pt\; mso-fareast-font-family: 'times new roman'\; mso-bidi-font-family: arial"><o:p>&nbsp\;</o:p></span></p>\n<p class="MsoNormal" style="line-height: normal\; margin: 0in 0in 0pt">\n	<span style="color: #181818\; font-size: 10pt\; mso-fareast-font-family: 'times new roman'\; mso-bidi-font-family: arial"><o:p>&nbsp\;</o:p></span></p>\n<p class="MsoNormal" style="line-height: normal\; margin: 0in 0in 0pt">\n	<span style="color: #181818\; font-size: 10pt\; mso-fareast-font-family: 'times new roman'\; mso-bidi-font-family: arial"><o:p>&nbsp\;</o:p></span></p>\n
LOCATION:
UID:e.363.4777
SEQUENCE:3
DTSTAMP:20260423T101945Z
URL:https://barrowcm.365dtm.com/events/details/retail-seminar-for-small-retailers-10-24-2012-4777
END:VEVENT

END:VCALENDAR
