BEGIN:VCALENDAR
VERSION:2.0
PRODID:-//ChamberMaster//Event Calendar 2.0//EN
METHOD:PUBLISH
X-PUBLISHED-TTL:P3D
REFRESH-INTERVAL:P3D
CALSCALE:GREGORIAN
BEGIN:VEVENT
DTSTART:20130410T153000Z
DTEND:20130410T160000Z
X-MICROSOFT-CDO-ALLDAYEVENT:FALSE
SUMMARY:RIbbon Cutting _ Center for Wound
DESCRIPTION:Ribbon Cutting\n\n	Center for Wound Healing & Hyberbaric Med.
X-ALT-DESC;FMTTYPE=text/html:<p>\n	Ribbon Cutting</p>\n<p>\n	Center for Wound Healing &amp\; Hyberbaric Med.<br />\n	&nbsp\;</p>\n
LOCATION:316 N. Broad Street WInder\, GA
UID:e.363.4846
SEQUENCE:3
DTSTAMP:20260423T011354Z
URL:https://barrowcm.365dtm.com/events/details/ribbon-cutting-_-center-for-wound-04-10-2013-4846
END:VEVENT

END:VCALENDAR
