BEGIN:VCALENDAR
VERSION:2.0
PRODID:-//ChamberMaster//Event Calendar 2.0//EN
METHOD:PUBLISH
X-PUBLISHED-TTL:P3D
REFRESH-INTERVAL:P3D
CALSCALE:GREGORIAN
BEGIN:VEVENT
DTSTART:20110208T153000Z
DTEND:20110208T160000Z
X-MICROSOFT-CDO-ALLDAYEVENT:FALSE
SUMMARY:Ribbon Cutting - Accounting & Business Services Solutions
DESCRIPTION:Ribbon Cutting - Accounting & Business Services Solutions
X-ALT-DESC;FMTTYPE=text/html:Ribbon Cutting - Accounting &amp\; Business Services Solutions
LOCATION:80 Giffith Street\, Winder
UID:e.363.3662
SEQUENCE:3
DTSTAMP:20260424T152330Z
URL:https://barrowcm.365dtm.com/events/details/ribbon-cutting-accounting-business-services-solutions-02-08-2011-3662
END:VEVENT

END:VCALENDAR
