BEGIN:VCALENDAR
VERSION:2.0
PRODID:-//ChamberMaster//Event Calendar 2.0//EN
METHOD:PUBLISH
X-PUBLISHED-TTL:P3D
REFRESH-INTERVAL:P3D
CALSCALE:GREGORIAN
BEGIN:VEVENT
DTSTART:20131206T163000Z
DTEND:20131206T170000Z
X-MICROSOFT-CDO-ALLDAYEVENT:FALSE
SUMMARY:RIbbon Cutting - Advance Driving Academy
DESCRIPTION:Ribbon Cutting - Advance Driving Academy
X-ALT-DESC;FMTTYPE=text/html:Ribbon Cutting - Advance Driving Academy
LOCATION:17 W. Stephens St Winder\, Ga
UID:e.363.5372
SEQUENCE:3
DTSTAMP:20260422T094703Z
URL:https://barrowcm.365dtm.com/events/details/ribbon-cutting-advance-driving-academy-12-06-2013-5372
END:VEVENT

END:VCALENDAR
