BEGIN:VCALENDAR
VERSION:2.0
PRODID:-//ChamberMaster//Event Calendar 2.0//EN
METHOD:PUBLISH
X-PUBLISHED-TTL:P3D
REFRESH-INTERVAL:P3D
CALSCALE:GREGORIAN
BEGIN:VEVENT
DTSTART:20141030T153000Z
DTEND:20141030T173000Z
X-MICROSOFT-CDO-ALLDAYEVENT:FALSE
SUMMARY:Ribbon Cutting - Advantage Barrow County Clinic
DESCRIPTION:Ribbon Cutting at Advantage Barrow County Clinic
X-ALT-DESC;FMTTYPE=text/html:Ribbon Cutting at Advantage Barrow County Clinic
LOCATION:98 Lanthier Street\, Winder
UID:e.363.5468
SEQUENCE:3
DTSTAMP:20260421T184420Z
URL:https://barrowcm.365dtm.com/events/details/ribbon-cutting-advantage-barrow-county-clinic-10-30-2014-5468
END:VEVENT

END:VCALENDAR
