BEGIN:VCALENDAR
VERSION:2.0
PRODID:-//ChamberMaster//Event Calendar 2.0//EN
METHOD:PUBLISH
X-PUBLISHED-TTL:P3D
REFRESH-INTERVAL:P3D
CALSCALE:GREGORIAN
BEGIN:VEVENT
DTSTART:20140312T153000Z
DTEND:20140312T160000Z
X-MICROSOFT-CDO-ALLDAYEVENT:FALSE
SUMMARY:RIbbon Cutting - Agape Hospice House
DESCRIPTION:Ribbon Cutting -Agape Hospice House
X-ALT-DESC;FMTTYPE=text/html:Ribbon Cutting -Agape Hospice House<br />\n&nbsp\;
LOCATION:208 Memory Lane\, Winder
UID:e.363.5403
SEQUENCE:3
DTSTAMP:20260422T050811Z
URL:https://barrowcm.365dtm.com/events/details/ribbon-cutting-agape-hospice-house-03-12-2014-5403
END:VEVENT

END:VCALENDAR
