BEGIN:VCALENDAR
VERSION:2.0
PRODID:-//ChamberMaster//Event Calendar 2.0//EN
METHOD:PUBLISH
X-PUBLISHED-TTL:P3D
REFRESH-INTERVAL:P3D
CALSCALE:GREGORIAN
BEGIN:VEVENT
DTSTART:20120106T163000Z
DTEND:20120106T170000Z
X-MICROSOFT-CDO-ALLDAYEVENT:FALSE
SUMMARY:Ribbon Cutting - American Pest Control
DESCRIPTION:Ribbon Cutting\n\nAmerican Pest Control
X-ALT-DESC;FMTTYPE=text/html:Ribbon Cutting<br />\nAmerican Pest Control
LOCATION:Ribbon Cutting American Pest Control
UID:e.363.4124
SEQUENCE:3
DTSTAMP:20260423T235353Z
URL:https://barrowcm.365dtm.com/events/details/ribbon-cutting-american-pest-control-01-06-2012-4124
END:VEVENT

END:VCALENDAR
