BEGIN:VCALENDAR
VERSION:2.0
PRODID:-//ChamberMaster//Event Calendar 2.0//EN
METHOD:PUBLISH
X-PUBLISHED-TTL:P3D
REFRESH-INTERVAL:P3D
CALSCALE:GREGORIAN
BEGIN:VEVENT
DTSTART:20111215T153000Z
DTEND:20111215T160000Z
X-MICROSOFT-CDO-ALLDAYEVENT:FALSE
SUMMARY:Ribbon Cutting - Anytme FItness
DESCRIPTION:Ribbon Cutting - Anytime Fitness\n\nNew Location
X-ALT-DESC;FMTTYPE=text/html:Ribbon Cutting - Anytime Fitness<br />\nNew Location
LOCATION:217 E. May Street\, (Old Blockbuster) Winder\, Ga
UID:e.363.4121
SEQUENCE:3
DTSTAMP:20260424T013908Z
URL:https://barrowcm.365dtm.com/events/details/ribbon-cutting-anytme-fitness-12-15-2011-4121
END:VEVENT

END:VCALENDAR
