BEGIN:VCALENDAR
VERSION:2.0
PRODID:-//ChamberMaster//Event Calendar 2.0//EN
METHOD:PUBLISH
X-PUBLISHED-TTL:P3D
REFRESH-INTERVAL:P3D
CALSCALE:GREGORIAN
BEGIN:VEVENT
DTSTART:20101026T140000Z
DTEND:20101026T150000Z
X-MICROSOFT-CDO-ALLDAYEVENT:FALSE
SUMMARY:Ribbon Cutting- AT&T (new location)
DESCRIPTION:Ribbon Cutting - AT&T at Barrow Crossing
X-ALT-DESC;FMTTYPE=text/html:<p>\n	Ribbon Cutting - AT&amp\;T at Barrow Crossing</p>
LOCATION:Barrow Crossing Shopping Center
UID:e.363.3622
SEQUENCE:3
DTSTAMP:20260424T213522Z
URL:https://barrowcm.365dtm.com/events/details/ribbon-cutting-at-t-new-location-10-26-2010-3622
END:VEVENT

END:VCALENDAR
