BEGIN:VCALENDAR
VERSION:2.0
PRODID:-//ChamberMaster//Event Calendar 2.0//EN
METHOD:PUBLISH
X-PUBLISHED-TTL:P3D
REFRESH-INTERVAL:P3D
CALSCALE:GREGORIAN
BEGIN:VEVENT
DTSTART:20110127T163000Z
DTEND:20110127T163000Z
X-MICROSOFT-CDO-ALLDAYEVENT:FALSE
SUMMARY:Ribbon Cutting - Athens Hearing & Balance Clinic in Winder
DESCRIPTION:Ribbon Cutting - Athens Hearing & Balance Clinic in Winder
X-ALT-DESC;FMTTYPE=text/html:Ribbon Cutting - Athens Hearing &amp\; Balance Clinic in Winder<br />\n
LOCATION:327 A Resource Pkwy WInder
UID:e.363.3658
SEQUENCE:3
DTSTAMP:20260424T165716Z
URL:https://barrowcm.365dtm.com/events/details/ribbon-cutting-athens-hearing-balance-clinic-in-winder-01-27-2011-3658
END:VEVENT

END:VCALENDAR
